BEGIN:VCALENDAR
VERSION:2.0
PRODID:-//Lakewood Tavern - ECPv6.15.20//NONSGML v1.0//EN
CALSCALE:GREGORIAN
METHOD:PUBLISH
X-ORIGINAL-URL:https://lakewoodtavern.com
X-WR-CALDESC:Events for Lakewood Tavern
REFRESH-INTERVAL;VALUE=DURATION:PT1H
X-Robots-Tag:noindex
X-PUBLISHED-TTL:PT1H
BEGIN:VTIMEZONE
TZID:America/Chicago
BEGIN:DAYLIGHT
TZOFFSETFROM:-0600
TZOFFSETTO:-0500
TZNAME:CDT
DTSTART:20250309T080000
END:DAYLIGHT
BEGIN:STANDARD
TZOFFSETFROM:-0500
TZOFFSETTO:-0600
TZNAME:CST
DTSTART:20251102T070000
END:STANDARD
BEGIN:DAYLIGHT
TZOFFSETFROM:-0600
TZOFFSETTO:-0500
TZNAME:CDT
DTSTART:20260308T080000
END:DAYLIGHT
BEGIN:STANDARD
TZOFFSETFROM:-0500
TZOFFSETTO:-0600
TZNAME:CST
DTSTART:20261101T070000
END:STANDARD
BEGIN:DAYLIGHT
TZOFFSETFROM:-0600
TZOFFSETTO:-0500
TZNAME:CDT
DTSTART:20270314T080000
END:DAYLIGHT
BEGIN:STANDARD
TZOFFSETFROM:-0500
TZOFFSETTO:-0600
TZNAME:CST
DTSTART:20271107T070000
END:STANDARD
END:VTIMEZONE
BEGIN:VEVENT
DTSTART;TZID=America/Chicago:20260422T180000
DTEND;TZID=America/Chicago:20260422T210000
DTSTAMP:20260425T221903
CREATED:20260127T183534Z
LAST-MODIFIED:20260324T212614Z
UID:4528-1776880800-1776891600@lakewoodtavern.com
SUMMARY:Kurt Bearinger Live!
DESCRIPTION:Kurt Bearinger plays a heavy dose of 90s & Outlaw Country with a side of folksy Classic Rock. Come on in and enjoy the show! \nhttps://lakewoodtavern.com/wp-content/uploads/2026/01/Kurt-Bearinger-at-LWT.mp4
URL:https://lakewoodtavern.com/event/kurt-bearinger-live-3/
LOCATION:Lakewood Tavern\, 9939 Hudson Boulevard North\, Lake Elmo\, MN\, 55042\, United States
CATEGORIES:Live music
ATTACH;FMTTYPE=image/jpeg:https://lakewoodtavern.com/wp-content/uploads/2025/12/Kurt-Bearinger.jpg
ORGANIZER;CN="Lakewood Tavern":MAILTO:chris@lakewoodtavern.com
END:VEVENT
BEGIN:VEVENT
DTSTART;TZID=America/Chicago:20260502T100000
DTEND;TZID=America/Chicago:20260502T220000
DTSTAMP:20260425T221903
CREATED:20260424T145427Z
LAST-MODIFIED:20260424T171434Z
UID:4823-1777716000-1777759200@lakewoodtavern.com
SUMMARY:Kentucky Derby Watch Party at Lakewood Tavern
DESCRIPTION:  \n \nThe Run for the Roses is coming — and Lakewood Tavern is your home\nfor the biggest two minutes in sports. \nJoin us Saturday\, May 2nd for our Kentucky Derby Watch Party\,\nfeaturing a special Derby menu\, themed cocktails\, prizes\, and the\nbest seats in Lake Elmo. \n🏇 DERBY SPECIALS MENU\nSip on classic Mint Juleps\, Kentucky Mules\, Brown Derby Martinis\,\nand Oaks Lily cocktails alongside Derby-inspired food specials —\nall available the day of the race. \n🎩 DERBY ATTIRE = BOGO DRINKS\nCome dressed in your Derby best — hats\, fascinators\, bow ties —\nand receive a buy-one-get-one beverage. The more festive\, the better. \n🍺 WIN A COOLER\nEvery purchase from the Derby Specials menu earns you an entry to\nwin a cooler. More orders = more chances to win. \n📺 30+ TVs | TWO BARS | OUTDOOR PATIO\nWalk-ins welcome all day — or make a reservation to secure your spot. \nRace post time: approximately 5:57 PM CT\nKitchen open until 10 PM | Bar open until Midnight
URL:https://lakewoodtavern.com/event/kentucky-derby-watch-party-lake-elmo/
LOCATION:Lakewood Tavern\, 9939 Hudson Boulevard North\, Lake Elmo\, MN\, 55042\, United States
ATTACH;FMTTYPE=image/jpeg:https://lakewoodtavern.com/wp-content/uploads/2026/04/0525_Lakewood_Derby_2722_WEB.jpg
ORGANIZER;CN="Lakewood Tavern":MAILTO:chris@lakewoodtavern.com
END:VEVENT
BEGIN:VEVENT
DTSTART;TZID=America/Chicago:20260504T100000
DTEND;TZID=America/Chicago:20260504T220000
DTSTAMP:20260425T221903
CREATED:20260424T171739Z
LAST-MODIFIED:20260424T171739Z
UID:4828-1777888800-1777932000@lakewoodtavern.com
SUMMARY:May The Fourth Be With You ⚔️ — Star Wars Day Specials
DESCRIPTION:A long time ago in a galaxy not so far away… Lakewood Tavern decided\nto celebrate Star Wars Day the right way — with an epic one-day-only\nspecials menu you won’t find anywhere else in the galaxy. \nMay The Fourth Be With You — Sunday\, May 4th only at Lakewood Tavern\nin Lake Elmo\, MN. \n━━━━━━━━━━━━━━━━━━━━━━━━\nFOOD SPECIALS\n━━━━━━━━━━━━━━━━━━━━━━━━ \nBoba Fett-ucinne | $17.49\nBlackened chicken\, house-made alfredo sauce\, parmesan \nEwok-a Taco Bowl | $16.99\nMexican rice\, ground beef\, shredded cheese\, lettuce\, tomato\, black\nolives\, black bean salsa\, Southwest ranch\, Nacho Cheese Doritos \nJabba the Hutt Dogs | $11.99\n2 chili dogs served with your choice of side \nVader Taters | $10.99\nCheese stuffed tater tots served with Sriracha ranch \n━━━━━━━━━━━━━━━━━━━━━━━━\nDRINK SPECIALS\n━━━━━━━━━━━━━━━━━━━━━━━━ \nHan Solo Spritz | $13.00\nEl Jimador Tequila\, blood orange liqueur\, lime\, splash of prosecco \nDark Side Whiskey Sour | $11.00\nFour Roses Bourbon\, dark cherry syrup\, lemon\, egg white \nDrink Me\, You Will Martini | $11.00\nStoli Vodka\, melon liqueur\, Tattersall Orange Crema\, melon ball \n━━━━━━━━━━━━━━━━━━━━━━━━\nALSO THIS SUNDAY\n━━━━━━━━━━━━━━━━━━━━━━━━ \nWeekend Brunch + Pour-Your-Own Bloody Mary & Mimosa Bar\nRunning 10:00 AM – 2:00 PM. Because even Jedis need brunch. \n━━━━━━━━━━━━━━━━━━━━━━━━ \nOne day only. Walk-ins always welcome. Kitchen open until 10pm.\nDon’t let these specials go to the dark side — join us Sunday\, May 4th. \n📍 9939 Hudson Blvd N\, Lake Elmo\, MN | (651) 390-6760
URL:https://lakewoodtavern.com/event/may-the-fourth-be-with-you-star-wars-day-specials/
LOCATION:Lakewood Tavern\, 9939 Hudson Boulevard North\, Lake Elmo\, MN\, 55042\, United States
ATTACH;FMTTYPE=image/png:https://lakewoodtavern.com/wp-content/uploads/2026/04/May-the-Fourth-Be-With-You-LWT.png
ORGANIZER;CN="Lakewood Tavern":MAILTO:chris@lakewoodtavern.com
END:VEVENT
END:VCALENDAR